Workbook

Sheet Arbeidsvarslingsplan
C4: Plan for varsling og sikring av vegarbeide
C5: Plan nr.: | L5: Sak nr: | Q5: ='Særskilt vedtak'!Q5:Z5 -> 0 | AA5: Vedtak nr.: | AE5: ='Særskilt vedtak'!AE5:AP5 -> 0
C6: Veg nr.: | G6: =Risikovurdering!G6 -> 0 | L6: fra Hp/km: | P6: =Risikovurdering!P6 -> 0 | AA6: til Hp/km: | AE6: =Risikovurdering!AE6 -> 0
C7: Strekning: | G7: Kommunale veger i Kvinneherad kommune | AA7: Sted: | AE7: =Risikovurdering!AE7 -> 0
C8: Arbeid som skal utføres: | L8: Generell skiltplan for hasteoppdrag og små vedlikeholdsoppdrag
C9: Entreprenør: | L9: Haugaland kraft, Nett
C10: Adresse: | L10: Haukelivegen 25 | X10: =Risikovurdering!AC11 -> 0 | AH10: =Risikovurdering!AG12 -> ala@hkraft.no
C11: Ansvarshavende: | L11: Arild Langåker | AA11: Tlf./e-post: | AE11: 98237429
C12: Stedsansvarlig(e): | L12: Føres på i loggbok | AA12: Tlf./e-post:
C13: Arbeidet utføres | L13: fra dato: | P13: 10 | R13: september | W13: 2020 | AA13: Til dato: | AD13: 31 | AF13: desember | AK13: 2021
C15: Underskrevet plan er vedtak med hjemmel i skiltforskriftens §29 og §30. Særskilt vedtak for trafikkregulerende tiltak skal vedlegges.
C17: Varslingsmateriell: | O17: Skisse:
G19: Skilt nr.: | K19: Ant.:
G21: 110
G24: 108
G27: 109
G30: 906
C43: Merknader:
D45: 1.All varsling skal være i hht HB N301 og N 101»
D46: og N 101»
D48: 2.Ved korte bevegelige arbeider
D49: brukes blinkende varsellys
D51: 3. Ved arbeider som vil forandre
D52: trafikkbildet vesentlig så vil politi,
D53: brann, AMK og
D54: kollektivtrafikken varsles
C61: Blankettfordeling:
F63: Kvinneherad kommune
F65: Entreprenør
F67: Ansvarshavende
F69: Politiet
D73: Fylles ut av skiltmyndigheten:
D77: Sted | M77: Dato | AB77: Sign. (etter fullmakt)
C80: Rev. 04.05.17

Sheet Plan manuell dirigering
C4: Plan for varsling og sikring av vegarbeide
C5: Plan nr.: | L5: Sak nr: | Q5: ='Særskilt vedtak'!Q5:Z5 -> 0 | AA5: Vedtak nr.: | AE5: ='Særskilt vedtak'!AE5:AP5 -> 0
C6: Veg nr.: | G6: =Risikovurdering!G6 -> 0 | L6: fra Hp/km: | P6: =Risikovurdering!P6 -> 0 | AA6: til Hp/km: | AE6: =Risikovurdering!AE6 -> 0
C7: Strekning: | G7: Kommunale veger i Kvinneherad kommune | AA7: Sted: | AE7: =Risikovurdering!AE7 -> 0
C8: Arbeid som skal utføres: | L8: Generell skiltplan for hasteoppdrag og små vedlikeholdsoppdrag
C9: Entreprenør: | L9: Haugaland kraft, Nett
C10: Adresse: | L10: Haukelivegen 25 | X10: =Risikovurdering!AC11 -> 0 | AH10: =Risikovurdering!AG12 -> ala@hkraft.no
C11: Ansvarshavende: | L11: Arild Langåker | AA11: Tlf./e-post: | AE11: 98237429
C12: Stedsansvarlig(e): | L12: Føres på i loggbok | AA12: Tlf./e-post:
C13: Arbeidet utføres | L13: fra dato: | P13: 10 | R13: september | W13: 2020 | AA13: Til dato: | AD13: 31 | AF13: desember | AK13: 2021
C15: Underskrevet plan er vedtak med hjemmel i skiltforskriftens §29 og §30. Særskilt vedtak for trafikkregulerende tiltak skal vedlegges.
C17: Varslingsmateriell: | O17: Skisse:
G19: Skilt nr.: | K19: Ant.:
G21: 110
G24: 108
G27: 109
G30: 906
C43: Merknader:
D45: 1.All varsling skal være i hht HB N301 og N 101»
D46: og N 101»
D48: 2.Ved korte bevegelige arbeider
D49: brukes blinkende varsellys
D51: 3. Ved arbeider som vil forandre
D52: trafikkbildet vesentlig så vil politi,
D53: brann, AMK og
D54: kollektivtrafikken varsles
C61: Blankettfordeling:
F63: Kvinneherad kommune
F65: Entreprenør
F67: Ansvarshavende
F69: Politiet
D73: Fylles ut av skiltmyndigheten:
D77: Sted | M77: Dato | AB77: Sign. (etter fullmakt)
C80: Rev. 04.05.17

Sheet Risikovurdering
C4: Risikovurdering av arbeide på eller ved veg
C5: Plan nr.: | G5: ='Særskilt vedtak'!G5:K5 -> 0 | L5: Sak/Sveis nr: | Q5: ='Særskilt vedtak'!Q5:Z5 -> 0 | AA5: Vedtak nr.: | AE5: ='Særskilt vedtak'!AE5:AP5 -> 0
C6: Veg nr.: | L6: fra Hp/km: | AA6: til Hp/km:
C7: Strekning: | G7: Kommunale veger i Kvinnherad kommune | AA7: Sted:
C8: Arbeid som skal utføres: | L8: Generell skiltplan for hasteoppdrag og små vedlikeholdsoppdrag
C9: Ansvarshavende: | L9: Arild Langåker | Z9: Tlf./e-post: | AD9: 98237429
C10: Entreprenør: | H10: Haugaland kraft, nett | Z10: Adresse: | AC10: Haukelivegen 25
C11: Arbeidet utføres i perioden
C12: Fra dato: | F12: 10 | H12: september | M12: 2020 | P12: Til dato: | S12: 31 | U12: desember | Z12: 2021 | AC12: E-post: | AG12: ala@hkraft.no
C14: En risikovurdering er en vurdering av hva som kan gå galt, hva som kan gjøres for å hindre det og hvordan en kan redusere konsekvensene dersom noe skjer.
D17: Tre spørsmål er kjernen i risikovurderingen: - Hva kan gå galt? - Hva kan vi gjøre for å hindre dette? - Hva kan vi gjøre for å redusere konsekvensene dersom det skjer?
Y22: Sannsynlighet: | AE22: Konsekvens: | AK22: Prioritet:
C23: Forhold som kan medføre risiko for ulykke: | Y23: Sett inn verdi for : | AE23: Sett inn verdi for : | AK23: (= produktet)
Z24: Stor: | AC24: 1 | AF24: Stor: | AI24: 1
C25: Forhold nr.: | Z25: Middels: | AC25: 2 | AF25: Middels: | AI25: 2
C26: ↓ | D26: Beskrivelse: | Z26: Liten: | AC26: 3 | AF26: Liten: | AI26: 3
D28: Eks.: Byggegrop 1 m dyp umiddelbart inntil kjørebane | Z28: 1 | AF28: 2 | AL28: =Z28*AF28 -> 2
C30: 1: | D30: Fare for påkjørsel av maskiner og utstyr spes. ved glatt/isete vegbane | Z30: 2 | AF30: 1 | AL30: =Z30*AF30 -> 2
C32: 2: | D32: Grøft ut i gata | Z32: 2 | AF32: 1 | AL32: =Z32*AF32 -> 2
C34: 3: | D34: For smalt for to felt forbi arbeidsstedet. | Z34: 3 | AF34: 1 | AL34: =Z34*AF34 -> 3
C36: 4: | D36: Sving før arbeidssted, tåke, tett snødrev ol | Z36: 2 | AF36: 2 | AL36: =Z36*AF36 -> 4
C38: 5: | D38: Stor trafikk av myke trafikanter / barn til og fra skole / barnehage | Z38: 3 | AF38: 2 | AL38: =Z38*AF38 -> 6
C40: 6: | AL40: =Z40*AF40 -> 0
C42: 7: | AL42: =Z42*AF42 -> 0
C44: 8: | AL44: =Z44*AF44 -> 0
C46: 9: | AL46: =Z46*AF46 -> 0
C48: 10: | AL48: =Z48*AF48 -> 0
C50: 11: | AL50: =Z50*AF50 -> 0
C52: Forhold nr.:
C53: ↓ | D53: Tiltak for å forhindre at ulykker skjer / reduserer konsekvensene av en ulykke:
C54: 1: | D54: God varsling, sperre av arbeidsområde, bruk gjerne bilen som buffer i kjøreretningen.
C55: 2: | D55: Grøften må sikres mot kjørende og myke trafikanter (syklende og gående
C56: 3: | D56: Vurdere lyssignal eller manuell dirigering
C57: 4: | D57: Gjøre trafikantene oppmerksom på arbeidet i god avstand fra arbeidsområdet med skilt, varsellys ol
C58: 5: | D58: God varsling. God informasjon ut og unngå anleggstrafikk rett før skolestart / slutt
C59: 6:
C60: 7:
C61: 8:
C62: 9:
C63: 10:
...

Sheet Særskilt vedtak
C4: Særskilt vedtak og betingelser for arbeidet
C5: Plan nr.: | L5: Sak nr: | AA5: Vedtak nr.:
C6: Veg nr.: | G6: =Arbeidsvarslingsplan!G6 -> 0 | L6: fra Hp/km: | P6: =Arbeidsvarslingsplan!P6 -> 0 | AA6: til Hp/km: | AE6: =Arbeidsvarslingsplan!AE6 -> 0
C7: Strekning: | G7: =Arbeidsvarslingsplan!G7 -> Kommunale veger i Kvinneherad kommune | AA7: Sted: | AE7: =Arbeidsvarslingsplan!AE7 -> 0
C8: Arbeid som skal utføres: | L8: =Arbeidsvarslingsplan!L8 -> Generell skiltplan for hasteoppdrag og små vedlikeholdsoppdrag
C9: Arbeidet utføres i perioden
C10: Fra dato: | F10: =Risikovurdering!F12 -> 10 | H10: =Risikovurdering!H12 -> september | M10: =Risikovurdering!M12 -> 2020 | P10: Til dato: | S10: =Risikovurdering!S12 -> 31 | U10: =Risikovurdering!U12 -> desember | Z10: =Risikovurdering!Z12 -> 2021
C11: Annet:
C14: Med hjemmel i skiltforskrift av 7. oktober 2005 nr 1219 §§ 26, 28, 30 og 32 og vegtrafikkloven §7 treffes vedtak om
C15: bruk av følgende trafikkregulerende skilt/lyssignaler/dirigering/oppmerking i samsvar med vedlagte skisse:
C18: Fartsgrenseskilt (362.x)……………… | Q18: Andre trafikkregulerende tiltak | AA18: x | AD18: Trafikksignal (skyttel)………
C20: x | Q20: Skilt | AD20: Manuell dirigering………….. | AN20: x
C22: 30 | E22: 40 | G22: 50 | I22: 60 | K22: 70 | M22: 80 | O22: 90 | AD22: Vegstengning……………….
C24: Betingelser for arbeidet:
C26: 1. | E26: Arbeidet skal varsles som vist på vedlagte arbeidsvarslingsplan, datert: | AB26: 44084
C28: 2. | E28: Bestemmelsene i skiltforskriften og håndbok N301 "Arbeid på og ved veg" gjelder for arbeidet
C30: 3. | E30: Ansvarlig for gjennomføring og oppfølging (kryss av):
F32: Kvinnherad kommune………… | Q32: Byggeleder:
F34: Annen offentlig etat…………. | Q34: Angi hvilken:
F36: Entreprenør………………….. | O36: x | V36: =Risikovurdering!H10 -> Haugaland kraft, nett
C38: 4. | E38: Ansvarshavende: | L38: =Risikovurdering!L9 -> Arild Langåker | AA38: Tlf./e-post: | AE38: =Risikovurdering!AD9 -> 98237429
E40: Stedsansvarlig(e): | L40: =Arbeidsvarslingsplan!L12 -> Føres på i loggbok | AA40: Tlf./e-post: | AE40: =Arbeidsvarslingsplan!AE12 -> 0
C43: 5. | E43: Loggbok skal alltid føres, og returneres til Kvinnherad kommune
C45: 6. | E45: Lede-/følgebil ………………
C47: 7. | E47: Følgende skal varsles/informeres om arbeidet (kryss av):
F49: Politi………………………….. | Q49: Brannvesen………………….. | AD49: Ambulanse/lege…………..
F51: Vegtrafikksentralen………….
F53: Skole………………………….. | Q53: Angi hvilke(n):
F55: Kollektivselskap…………….. | Q55: Angi hvilke(t):
F57: Radio, presse m.m…………. | Q57: Angi hvem:
F59: Andre…………………….. | Q59: Angi hvem:
C61: 8. | E61: Tillatelser:
F63: Gravetillatelse………. | S63: Arbeidstillatelse…….
F64: NB: Se vedlagte vilkår for gravetillatelsen
C67: 9. | E67: Kopi av all dokumentasjon som inngår i arbeidsvarslingsplanen skal oppbevares på arbeidsstedet.
C69: 10. | E69: Spesielle vilkår/betingelser:
F74: NB: Politiet og ansvarshavende skal ha kopi av blanketten.
E76: =Arbeidsvarslingsplan!D74 -> 0 | N76: =Arbeidsvarslingsplan!M74 -> 0
E79: Sted | N79: Dato | AB79: Sign. (etter fullmakt)

Sheet Loggbok
C4: Loggbok
C5: Plan nr.: | G5: =Arbeidsvarslingsplan!G5 -> 0 | L5: Sak nr: | P5: =Arbeidsvarslingsplan!Q5 -> 0 | AA5: Vedtak nr.: | AE5: =Arbeidsvarslingsplan!AE5 -> 0
C6: Veg nr.: | G6: =Arbeidsvarslingsplan!G6 -> 0 | L6: fra Hp/km: | P6: =Arbeidsvarslingsplan!P6 -> 0 | AA6: til Hp/km: | AE6: =Arbeidsvarslingsplan!AE6 -> 0
C7: Strekning: | G7: =Arbeidsvarslingsplan!G7 -> Kommunale veger i Kvinneherad kommune | AA7: Sted: | AE7: =Arbeidsvarslingsplan!AE7 -> 0
C8: Arbeid som skal utføres: | L8: =Arbeidsvarslingsplan!L8 -> Generell skiltplan for hasteoppdrag og små vedlikeholdsoppdrag
C9: Ansvarshavende: | L9: =Risikovurdering!L9 -> Arild Langåker | AA9: Tlf.: | AE9: =Risikovurdering!AD9 -> 98237429
C10: Stedsansvarlig(e):: | L10: =Arbeidsvarslingsplan!L12 -> Føres på i loggbok
C11: Loggbok sendes:
C13: Utsetting/inntaking av sikrings- og varslingsutstyr, manuell trafikkdirigering med mer.
C15: Sted | H15: Start | O15: Stopp | V15: Kontrollert
C16: Hp | E16: Km | H16: Dato | L16: Kl | O16: Dato | S16: Kl | V16: Dato | Z16: Kl | AC16: Type utstyr, merkn. | AN16: Sign.
